BEGIN:VCALENDAR
VERSION:2.0
PRODID:-//Media Studies Department - ECPv6.15.20//NONSGML v1.0//EN
CALSCALE:GREGORIAN
METHOD:PUBLISH
X-WR-CALNAME:Media Studies Department
X-ORIGINAL-URL:https://mediastudies.uncg.edu
X-WR-CALDESC:Events for Media Studies Department
REFRESH-INTERVAL;VALUE=DURATION:PT1H
X-Robots-Tag:noindex
X-PUBLISHED-TTL:PT1H
BEGIN:VTIMEZONE
TZID:America/New_York
BEGIN:DAYLIGHT
TZOFFSETFROM:-0500
TZOFFSETTO:-0400
TZNAME:EDT
DTSTART:20250309T070000
END:DAYLIGHT
BEGIN:STANDARD
TZOFFSETFROM:-0400
TZOFFSETTO:-0500
TZNAME:EST
DTSTART:20251102T060000
END:STANDARD
BEGIN:DAYLIGHT
TZOFFSETFROM:-0500
TZOFFSETTO:-0400
TZNAME:EDT
DTSTART:20260308T070000
END:DAYLIGHT
BEGIN:STANDARD
TZOFFSETFROM:-0400
TZOFFSETTO:-0500
TZNAME:EST
DTSTART:20261101T060000
END:STANDARD
BEGIN:DAYLIGHT
TZOFFSETFROM:-0500
TZOFFSETTO:-0400
TZNAME:EDT
DTSTART:20270314T070000
END:DAYLIGHT
BEGIN:STANDARD
TZOFFSETFROM:-0400
TZOFFSETTO:-0500
TZNAME:EST
DTSTART:20271107T060000
END:STANDARD
END:VTIMEZONE
BEGIN:VEVENT
DTSTART;TZID=America/New_York:20260502T150000
DTEND;TZID=America/New_York:20260502T150000
DTSTAMP:20260420T142314
CREATED:20260413T154229Z
LAST-MODIFIED:20260413T154232Z
UID:10000014-1777734000-1777734000@mediastudies.uncg.edu
SUMMARY:Minerva Media Festival
DESCRIPTION:This festival is a cornerstone event celebrating the creative achievements of Media Studies students at UNCG. The program showcases a diverse collection of work—ranging from thought-provoking documentaries to innovative narrative shorts—all produced during this semester. \n\n\n\nThe event is FREE and open to the public! \n\n\n\n\n\n\n\nDate: Saturday\, May 2nd \n\n\n\nTime: 3:00 PM \n\n\n\nLocation: Jarrell Hall\, UNCG Library
URL:https://mediastudies.uncg.edu/event/minerva-media-festival-2/
LOCATION:Jarrell Hall\, 320 College Avenue\, Greensboro\, NC\, 27412\, United States
CATEGORIES:Film Festival
ATTACH;FMTTYPE=image/png:https://mediastudies.uncg.edu/wp-content/uploads/2026/04/minerva-media-festival.png
END:VEVENT
END:VCALENDAR