BEGIN:VCALENDAR
VERSION:2.0
PRODID:-//Media Studies Department - ECPv6.15.20//NONSGML v1.0//EN
CALSCALE:GREGORIAN
METHOD:PUBLISH
X-WR-CALNAME:Media Studies Department
X-ORIGINAL-URL:https://mediastudies.uncg.edu
X-WR-CALDESC:Events for Media Studies Department
REFRESH-INTERVAL;VALUE=DURATION:PT1H
X-Robots-Tag:noindex
X-PUBLISHED-TTL:PT1H
BEGIN:VTIMEZONE
TZID:America/New_York
BEGIN:DAYLIGHT
TZOFFSETFROM:-0500
TZOFFSETTO:-0400
TZNAME:EDT
DTSTART:20230312T070000
END:DAYLIGHT
BEGIN:STANDARD
TZOFFSETFROM:-0400
TZOFFSETTO:-0500
TZNAME:EST
DTSTART:20231105T060000
END:STANDARD
BEGIN:DAYLIGHT
TZOFFSETFROM:-0500
TZOFFSETTO:-0400
TZNAME:EDT
DTSTART:20240310T070000
END:DAYLIGHT
BEGIN:STANDARD
TZOFFSETFROM:-0400
TZOFFSETTO:-0500
TZNAME:EST
DTSTART:20241103T060000
END:STANDARD
BEGIN:DAYLIGHT
TZOFFSETFROM:-0500
TZOFFSETTO:-0400
TZNAME:EDT
DTSTART:20250309T070000
END:DAYLIGHT
BEGIN:STANDARD
TZOFFSETFROM:-0400
TZOFFSETTO:-0500
TZNAME:EST
DTSTART:20251102T060000
END:STANDARD
BEGIN:DAYLIGHT
TZOFFSETFROM:-0500
TZOFFSETTO:-0400
TZNAME:EDT
DTSTART:20260308T070000
END:DAYLIGHT
BEGIN:STANDARD
TZOFFSETFROM:-0400
TZOFFSETTO:-0500
TZNAME:EST
DTSTART:20261101T060000
END:STANDARD
BEGIN:DAYLIGHT
TZOFFSETFROM:-0500
TZOFFSETTO:-0400
TZNAME:EDT
DTSTART:20270314T070000
END:DAYLIGHT
BEGIN:STANDARD
TZOFFSETFROM:-0400
TZOFFSETTO:-0500
TZNAME:EST
DTSTART:20271107T060000
END:STANDARD
END:VTIMEZONE
BEGIN:VEVENT
DTSTART;TZID=America/New_York:20260415T170000
DTEND;TZID=America/New_York:20260415T170000
DTSTAMP:20260423T065902
CREATED:20260319T143841Z
LAST-MODIFIED:20260319T144355Z
UID:10000012-1776272400-1776272400@mediastudies.uncg.edu
SUMMARY:Our Cinemateque presents: "Redemption Time" directed by David Gonzalez
DESCRIPTION:Step into the world of bold ideas and powerful storytelling at Our Cinematheque — where media isn’t just screened\, it’s explored.\n\n\n\nDirected by David Gonzalez\, “Redemption Time” is a true story of trauma\, transformation\, and the power of poetry and music to free the soul.Wednesday\, April 15\, 2026 @ 5PMJarrell Hall (Lower level of Jackson Library)Post-screening conversation with Christian Howes \n\n\n\n\n\n\n\nOur Cinematheque is a UNCG Media Studies Department-led screening and learning event designed for curious\, creative minds. We invite accomplished media artists to present their work — from compelling films and immersive experiences to projects that experiment with emerging technologies — and then join us for relaxed\, informal conversations about how it all came together. \n\n\n\nSome guests push boundaries with new tools and technologies. Others captivate audiences through pure storytelling craft. What connects them all is a strong creative voice and a thoughtful process worth sharing. \n\n\n\nNo stiff lectures. Just honest conversations about inspiration\, challenges\, collaboration\, and the real journey behind the work. \n\n\n\nWhether you’re passionate about film\, digital media\, emerging tech\, or simply great storytelling\, Our Cinematheque is a space and time to watch\, listen\, ask questions\, connect\, and be inspired.
URL:https://mediastudies.uncg.edu/event/our-cinemateque-presents-redemption-time-directed-by-david-gonzalez/
LOCATION:Jarrell Hall\, 320 College Avenue\, Greensboro\, NC\, 27412\, United States
CATEGORIES:Film Screening
ATTACH;FMTTYPE=image/png:https://mediastudies.uncg.edu/wp-content/uploads/2026/03/redemption-time-scaled.png
END:VEVENT
BEGIN:VEVENT
DTSTART;TZID=America/New_York:20260410T180000
DTEND;TZID=America/New_York:20260410T200000
DTSTAMP:20260423T065902
CREATED:20260326T201333Z
LAST-MODIFIED:20260326T201336Z
UID:10000013-1775844000-1775851200@mediastudies.uncg.edu
SUMMARY:Film Screening and Panel Discussion: “Homage to a Hero: Reflections from Reverend Steve Allen”
DESCRIPTION:
URL:https://cas.uncg.edu/event/film-screening-and-panel-discussion-homage-to-a-hero-reflections-from-reverend-steve-allen/#new_tab
LOCATION:NC
CATEGORIES:Film Screening
ATTACH;FMTTYPE=image/png:https://mediastudies.uncg.edu/wp-content/uploads/2026/03/2026-04-10-Civil-Rights-Film-Screening.png
END:VEVENT
BEGIN:VEVENT
DTSTART;TZID=America/New_York:20260401T180000
DTEND;TZID=America/New_York:20260401T180000
DTSTAMP:20260423T065902
CREATED:20260319T141234Z
LAST-MODIFIED:20260319T144608Z
UID:10000011-1775066400-1775066400@mediastudies.uncg.edu
SUMMARY:"Can I Kick It?" : Classic Kung Fu x Classic Hip-Hop Featuring the Film "The Matrix"
DESCRIPTION:Join us for a unique film screening & live hip hop performance!\n\n\n\nShaolin Jazz will perform a special CAN I KICK IT? presentation on Wednesday\, April 1st at the Elliott University Center Auditorium. \n\n\n\nThey will screen the sci-fi action classic THE MATRIX\, but with the added twist of a live music soundtrack by DJ 2-Tone Jones.  \n\n\n\nTHE MATRIX (The Wachowskis\, 1999) is a seminal film that combines innovative martial arts choreography\, groundbreaking CGI effects\, and a philosophical debate about identity and purpose within an AI dominated dystopia.  \n\n\n\nPlease attend and bring guests!  \n\n\n\nFREE EVENTOPEN TO THE PUBLICDOORS @ 6:00 PMMOVIE @ 6:30 PM \n\n\n\n\n\n\n\nThis event is presented by UNCG Human Rights Film Festival and sponsored by Media Studies\, Lloyd International Honors College\, Peace & Conflict Studies\, Political Science\, and Women’s\, Gender\, & Sexuality Studies.  \n\n\n\nOther sponsors include Antenna Releasing and Someone’s Favorite Productions.
URL:https://mediastudies.uncg.edu/event/can-i-kick-it-classic-kung-fu-x-classic-hip-hop-featuring-the-film-the-matrix/
LOCATION:Elliott University Center (EUC)\, 507 Stirling St\, Greensboro\, NC\, 27412\, United States
ATTACH;FMTTYPE=image/png:https://mediastudies.uncg.edu/wp-content/uploads/2026/03/UNCG_Matrix_Apr1.png
END:VEVENT
BEGIN:VEVENT
DTSTART;TZID=America/New_York:20251210T180000
DTEND;TZID=America/New_York:20251210T180000
DTSTAMP:20260423T065902
CREATED:20251125T212934Z
LAST-MODIFIED:20251125T213057Z
UID:10000010-1765389600-1765389600@mediastudies.uncg.edu
SUMMARY:Minerva Media Festival
DESCRIPTION:Join us at 6pm on December 10 in Jarrell Hall for a showcase of selected student films!
URL:https://mediastudies.uncg.edu/event/minerva-media-festival/
LOCATION:Jarrell Hall\, 320 College Avenue\, Greensboro\, NC\, 27412\, United States
CATEGORIES:Film Festival,Film Screening
ATTACH;FMTTYPE=image/png:https://mediastudies.uncg.edu/wp-content/uploads/2025/11/minerva-media-festival-feature.png
END:VEVENT
BEGIN:VEVENT
DTSTART;TZID=America/New_York:20251205T180000
DTEND;TZID=America/New_York:20251205T210000
DTSTAMP:20260423T065902
CREATED:20251125T210158Z
LAST-MODIFIED:20251125T210346Z
UID:10000009-1764957600-1764968400@mediastudies.uncg.edu
SUMMARY:“Gate City: Playable Space” Video Installation at the Festival of Lights (and through 12/15)
DESCRIPTION:Creative Greensboro welcomes filmmakers Jennida Chase and Hassan Pitts\, known collectively as S/N\, to the Greensboro Residency for Original Works through December 15. During their stay\, they will create and present “Gate City: Playable Space\,” an immersive installation that combines light\, texture\, sound\, and video to make a space for exploration and interaction.\n\n\n\n“Gate City: Playable Space” will be open to visitors during downtown Greensboro’s Festival of Lights on Friday\, December 5. Visitors can step inside this living\, cinematic world and see how light\, sound\, and movement turn the space into a place for play. \n\n\n\nYou can also catch the installation during regular hours through December 15! \n\n\n\nRegular hours\n\n\n\n\nMon 5-8\n\n\n\nWed 5-8 (closed 11/26)\n\n\n\nSat 11-2 (closed 11/29)
URL:https://mediastudies.uncg.edu/event/gate-city-playable-space-video-installation-at-the-festival-of-lights-and-through-12-15/
LOCATION:Greensboro Cultural Center\, 200 N. Davie Street\, Suite 101\, Greensboro\, North Carolina\, 27401\, United States
ATTACH;FMTTYPE=image/png:https://mediastudies.uncg.edu/wp-content/uploads/2025/11/image001.png
END:VEVENT
BEGIN:VEVENT
DTSTART;TZID=America/New_York:20251108T170000
DTEND;TZID=America/New_York:20251108T170000
DTSTAMP:20260423T065902
CREATED:20251022T214220Z
LAST-MODIFIED:20251022T214224Z
UID:10000007-1762621200-1762621200@mediastudies.uncg.edu
SUMMARY:Reception for Outerbound Film Screening
DESCRIPTION:Join us in at Oden Brewing Company for a 5pm reception following the film screening and Q&A session!\n\n\n\n\n\n\n\nFood and refreshments will be provided.
URL:https://mediastudies.uncg.edu/event/reception-for-outerbound-film-screening/
LOCATION:Oden Brewing Company\, 802 W Gate City Blvd\, Greensboro\, NC\, 27403\, United States
CATEGORIES:Film Screening
ATTACH;FMTTYPE=image/jpeg:https://mediastudies.uncg.edu/wp-content/uploads/2025/10/UNCG-Branded_Digital-Flyer_Outerbound_Premiere-copy.jpg
END:VEVENT
BEGIN:VEVENT
DTSTART;TZID=America/New_York:20251108T140000
DTEND;TZID=America/New_York:20251108T140000
DTSTAMP:20260423T065902
CREATED:20251022T213443Z
LAST-MODIFIED:20251022T214251Z
UID:10000006-1762610400-1762610400@mediastudies.uncg.edu
SUMMARY:"Outerbound" Film Screening and Q&A Session
DESCRIPTION:Join us at the Greensboro History Museum for an exclusive\, one-day screening of Outerbound\, a feature film directed by UNCG Media Studies alum Sean Norona.\n\n\n\nLive Q&A session to follow film screening.  \n\n\n\nThere will also be a reception at Oden Brewing Company at 5pm!
URL:https://mediastudies.uncg.edu/event/outerbound-film-screening-and-qa-session/
LOCATION:Greensboro History Museum\, 130 Summit Ave.\, Greensboro\, NC\, 27401\, United States
CATEGORIES:Film Screening
ATTACH;FMTTYPE=image/jpeg:https://mediastudies.uncg.edu/wp-content/uploads/2025/10/UNCG-Branded_Digital-Flyer_Outerbound_Premiere-copy.jpg
END:VEVENT
BEGIN:VEVENT
DTSTART;TZID=America/New_York:20251105T183000
DTEND;TZID=America/New_York:20251105T183000
DTSTAMP:20260423T065902
CREATED:20251029T165717Z
LAST-MODIFIED:20251029T165932Z
UID:10000008-1762367400-1762367400@mediastudies.uncg.edu
SUMMARY:“No Other Land” Film Screening
DESCRIPTION:
URL:https://cas.uncg.edu/event/no-other-land-film-screening/#new_tab
LOCATION:NC
CATEGORIES:Film Screening
ATTACH;FMTTYPE=image/png:https://mediastudies.uncg.edu/wp-content/uploads/2025/10/no-other-land-feature.png
END:VEVENT
BEGIN:VEVENT
DTSTART;TZID=America/New_York:20250928T150000
DTEND;TZID=America/New_York:20250928T150000
DTSTAMP:20260423T065902
CREATED:20250919T212525Z
LAST-MODIFIED:20250919T213618Z
UID:10000005-1759071600-1759071600@mediastudies.uncg.edu
SUMMARY:Meet & Greet: Filmmakers & Actors!
DESCRIPTION:Join us in the Kirkland Room of EUC for a special day of casual meet & greet to pair Media Studies and Theatre students.  Refreshments provided.\n\n\n\n\n\n\n\nFind your actors / Find the film to join! \n\n\n\n\n\n\n\nQuestions? Email c_chun@uncg.edu
URL:https://mediastudies.uncg.edu/event/meet-greet-filmmakers-actors/
LOCATION:Elliott University Center (EUC)\, 507 Stirling St\, Greensboro\, NC\, 27412\, United States
ATTACH;FMTTYPE=image/png:https://mediastudies.uncg.edu/wp-content/uploads/2025/09/meet-and-greet-filmmakers-actors.png
END:VEVENT
BEGIN:VEVENT
DTSTART;TZID=America/New_York:20250619T130000
DTEND;TZID=America/New_York:20250619T160000
DTSTAMP:20260423T065902
CREATED:20250611T152520Z
LAST-MODIFIED:20250611T152621Z
UID:10000004-1750338000-1750348800@mediastudies.uncg.edu
SUMMARY:Juneteenth Documentary Showing & Discussion: “After Sherman”
DESCRIPTION:Professor Hassan Pitts and UNCG students will engage in a discussion after a special viewing of the documentary “After Sherman”. Attendees will have a chance to view the ongoing art exhibits following this event. \n\n\n\nAbout the film\, “After Sherman:” Returning to the coastal South Carolina land that his family purchased after emancipation\, filmmaker Jon-Sesrie Goff’s desire to explore his Gullah/Geechee roots transforms into a poetic investigation of Black inheritance\, trauma\, and generational wisdom\, amidst the violent tensions that define America’s collective history. 
URL:https://cas.uncg.edu/event/juneteenth-documentary-showing-after-sherman/#new_tab
LOCATION:NC
ATTACH;FMTTYPE=image/jpeg:https://mediastudies.uncg.edu/wp-content/uploads/2025/06/after-sherman-poster.jpg
END:VEVENT
BEGIN:VEVENT
DTSTART;TZID=America/New_York:20250330T200000
DTEND;TZID=America/New_York:20250330T200000
DTSTAMP:20260423T065902
CREATED:20250221T175131Z
LAST-MODIFIED:20250221T175137Z
UID:10000003-1743364800-1743364800@mediastudies.uncg.edu
SUMMARY:Carmichael Film Festival 2025 Submissions Deadline
DESCRIPTION:
URL:https://sites.google.com/view/carmichaelstudiosuncg/the-carmichael-film-festival-submissions#new_tab
LOCATION:NC
CATEGORIES:Film Festival
ATTACH;FMTTYPE=image/jpeg:https://mediastudies.uncg.edu/wp-content/uploads/2025/02/carmichael-studios.jpeg
END:VEVENT
BEGIN:VEVENT
DTSTART;TZID=America/New_York:20240829T173000
DTEND;TZID=America/New_York:20240829T190000
DTSTAMP:20260423T065902
CREATED:20240829T151602Z
LAST-MODIFIED:20240829T151611Z
UID:10000002-1724952600-1724958000@mediastudies.uncg.edu
SUMMARY:Sanarchy Student Film Screening
DESCRIPTION:
URL:https://weatherspoonart.org/events/sanarchy-student-film-screening/#new_tab
LOCATION:NC
ATTACH;FMTTYPE=image/jpeg:https://mediastudies.uncg.edu/wp-content/uploads/2024/08/sanarchy-premiere-310632-F.jpg
END:VEVENT
END:VCALENDAR